BEGIN:VCALENDAR
VERSION:2.0
PRODID:-//Down Syndrome Parents Group of Western New York - DSPG of WNY - ECPv6.15.20//NONSGML v1.0//EN
CALSCALE:GREGORIAN
METHOD:PUBLISH
X-WR-CALNAME:Down Syndrome Parents Group of Western New York - DSPG of WNY
X-ORIGINAL-URL:https://dspgwny.org
X-WR-CALDESC:Events for Down Syndrome Parents Group of Western New York - DSPG of WNY
REFRESH-INTERVAL;VALUE=DURATION:PT1H
X-Robots-Tag:noindex
X-PUBLISHED-TTL:PT1H
BEGIN:VTIMEZONE
TZID:America/New_York
BEGIN:DAYLIGHT
TZOFFSETFROM:-0500
TZOFFSETTO:-0400
TZNAME:EDT
DTSTART:20110313T070000
END:DAYLIGHT
BEGIN:STANDARD
TZOFFSETFROM:-0400
TZOFFSETTO:-0500
TZNAME:EST
DTSTART:20111106T060000
END:STANDARD
BEGIN:DAYLIGHT
TZOFFSETFROM:-0500
TZOFFSETTO:-0400
TZNAME:EDT
DTSTART:20120311T070000
END:DAYLIGHT
BEGIN:STANDARD
TZOFFSETFROM:-0400
TZOFFSETTO:-0500
TZNAME:EST
DTSTART:20121104T060000
END:STANDARD
BEGIN:DAYLIGHT
TZOFFSETFROM:-0500
TZOFFSETTO:-0400
TZNAME:EDT
DTSTART:20130310T070000
END:DAYLIGHT
BEGIN:STANDARD
TZOFFSETFROM:-0400
TZOFFSETTO:-0500
TZNAME:EST
DTSTART:20131103T060000
END:STANDARD
BEGIN:DAYLIGHT
TZOFFSETFROM:-0500
TZOFFSETTO:-0400
TZNAME:EDT
DTSTART:20140309T070000
END:DAYLIGHT
BEGIN:STANDARD
TZOFFSETFROM:-0400
TZOFFSETTO:-0500
TZNAME:EST
DTSTART:20141102T060000
END:STANDARD
BEGIN:DAYLIGHT
TZOFFSETFROM:-0500
TZOFFSETTO:-0400
TZNAME:EDT
DTSTART:20150308T070000
END:DAYLIGHT
BEGIN:STANDARD
TZOFFSETFROM:-0400
TZOFFSETTO:-0500
TZNAME:EST
DTSTART:20151101T060000
END:STANDARD
BEGIN:DAYLIGHT
TZOFFSETFROM:-0500
TZOFFSETTO:-0400
TZNAME:EDT
DTSTART:20160313T070000
END:DAYLIGHT
BEGIN:STANDARD
TZOFFSETFROM:-0400
TZOFFSETTO:-0500
TZNAME:EST
DTSTART:20161106T060000
END:STANDARD
BEGIN:DAYLIGHT
TZOFFSETFROM:-0500
TZOFFSETTO:-0400
TZNAME:EDT
DTSTART:20170312T070000
END:DAYLIGHT
BEGIN:STANDARD
TZOFFSETFROM:-0400
TZOFFSETTO:-0500
TZNAME:EST
DTSTART:20171105T060000
END:STANDARD
BEGIN:DAYLIGHT
TZOFFSETFROM:-0500
TZOFFSETTO:-0400
TZNAME:EDT
DTSTART:20180311T070000
END:DAYLIGHT
BEGIN:STANDARD
TZOFFSETFROM:-0400
TZOFFSETTO:-0500
TZNAME:EST
DTSTART:20181104T060000
END:STANDARD
END:VTIMEZONE
BEGIN:VEVENT
DTSTART;TZID=America/New_York:20170401T173000
DTEND;TZID=America/New_York:20170401T210000
DTSTAMP:20260425T115610
CREATED:20170310T165253Z
LAST-MODIFIED:20170316T162254Z
UID:1198-1491067800-1491080400@dspgwny.org
SUMMARY:DSPG Spring Dance
DESCRIPTION:Our dances have become so popular we added another one to the calendar! \nOn Saturday\, April 1\, we will celebrate World Down Syndrome Day with a dance from 5:30pm to 9:00pm\, at Magruders\, located at 4995 Broadway in Depew. Wear a crazy hat and celebrate your unique style! The DSPG will provide pizza\, salad and drinks. Families with the last names A-S are to bring an appetizer\, and families T-Z will bring a dessert. \nPlease RSVP to Lynette at lynpriham@gmail.com with how many and what you are bringing by March 26 so that we can ensure adequate food and seating. \n 
URL:https://dspgwny.org/event/dspg-spring-dance-2/
CATEGORIES:Dance
END:VEVENT
BEGIN:VEVENT
DTSTART;TZID=America/New_York:20160206T173000
DTEND;TZID=America/New_York:20160206T210000
DTSTAMP:20260425T115610
CREATED:20160109T034516Z
LAST-MODIFIED:20160109T034516Z
UID:1075-1454779800-1454792400@dspgwny.org
SUMMARY:DSPG Valentines Dance
DESCRIPTION:The Valentines dance will be Saturday\, February 6\, 2016 from 5:30 to 9:00 pm\, at Magruders\, located at 4995 Broadway in Depew. Please RSVP by Monday\, February 1\, so that we can ensure adequate food and seating. The DSPG will provide pizza\, salad and drinks. Families with the last names A-M are to bring dessert\, and families N-Z will bring an appetizer. \nSince the dances are so well attended we are requiring an RSVP in advance in order to prepare the space and ensure that we are within capacity limits of the venue. Please RSVP to Lynette at ljph@roadrunner.com
URL:https://dspgwny.org/event/dspg-valentines-dance-2/
CATEGORIES:Dance,For the Family
END:VEVENT
BEGIN:VEVENT
DTSTART;TZID=America/New_York:20151024T173000
DTEND;TZID=America/New_York:20151024T210000
DTSTAMP:20260425T115610
CREATED:20150927T210300Z
LAST-MODIFIED:20150927T210338Z
UID:1046-1445707800-1445720400@dspgwny.org
SUMMARY:DSPG Fall Dance
DESCRIPTION:Join us at the Fall dance\, Saturday October 24\, 2015 from 5:30 to 9:00 at MaGruders and take a spin on the dance floor! MaGruders is located at 4995 Broadway in Depew. Please RSVP by Monday\, October 19\, so that we can ensure adequate food and seating. The DSPG will provide pizza\, salad and drinks. Families with the last names A-M are to bring an appetizers\, and families N-Z will bring a dessert. Since the dances are becoming well attended we are requiring an RSVP in advance so that we can prepare the space and ensure that we are within capacity limits of  the venue. Please RSVP to Lynette at ljph@roadrunner.com.
URL:https://dspgwny.org/event/dspg-fall-dance-3/
CATEGORIES:Dance
END:VEVENT
BEGIN:VEVENT
DTSTART;TZID=America/New_York:20150207T173000
DTEND;TZID=America/New_York:20150207T210000
DTSTAMP:20260425T115610
CREATED:20150126T030527Z
LAST-MODIFIED:20150126T030527Z
UID:930-1423330200-1423342800@dspgwny.org
SUMMARY:DSPG Valentine's Dance
DESCRIPTION:Dance on over Saturday\, February 7th to Magruders’s at 5:30-9PM and take a spin on the dance floor. Magruder’s is located at 4995 Broadway in Depew. Please RSVP by Monday\, February 2nd so that we can ensure adequate food and seating. The DSPG will provide pizza\, salad and drinks. Families with the last names A-M are to bring an appetizers\, and families N-Z will bring a dessert.  \nSince the dances are becoming well attended we are requiring an RSVP in advance so that we can prepare the space and ensure that we are within capacity limits of the venue. \nPlease RSVP to Lynette at ljph@roadrunner.com or 873-0018.
URL:https://dspgwny.org/event/dspg-valentines-dance/
CATEGORIES:Dance,For the Family
END:VEVENT
BEGIN:VEVENT
DTSTART;TZID=America/New_York:20140208T173000
DTEND;TZID=America/New_York:20140208T210000
DTSTAMP:20260425T115610
CREATED:20140109T025326Z
LAST-MODIFIED:20140109T025326Z
UID:758-1391880600-1391893200@dspgwny.org
SUMMARY:DSPG Spring Dance
DESCRIPTION:Got a little SPRING in your step… .dance on over Saturday\, February 8 from 5:30-9pm at Macgruders Restaurant\, 4995 Broadway in Depew. Hank will provide music & DSPG will provide pizza\, salad & drinks. Bring a dish or dessert to pass.  RSVP by February 3rd! Questions? Email Lynette at ljph@roadrunner.com
URL:https://dspgwny.org/event/dspg-spring-dance/
LOCATION:Magruders Restaurant\, 4995 Broadway\, Depew\, NY\, 14043\, United States
CATEGORIES:Dance,For the Family
END:VEVENT
BEGIN:VEVENT
DTSTART;TZID=America/New_York:20130209T173000
DTEND;TZID=America/New_York:20130209T210000
DTSTAMP:20260425T115610
CREATED:20121112T222609Z
LAST-MODIFIED:20121112T222858Z
UID:308-1360431000-1360443600@dspgwny.org
SUMMARY:Valentine's Dance
DESCRIPTION:Make your Valentine’s Day extra special this year by dancing the evening away on Saturday\, February 9\, from 5:30-9pm at Macgruders Restaurant\, 4995 Broadway in Depew. This is another popular event for all ages. Hank will provide the dancing music\, and DSPG will provide pizza and drinks. Please bring a dish to pass or a dessert. If you have any questions\, please contact Lynette at ljph@roadrunner.com. \nLynette would greatly appreciate RSVPs by February 2 in order to plan the food.
URL:https://dspgwny.org/event/valentines-dance/
CATEGORIES:Annual Event,Dance,For the Family,Recreational
ORGANIZER;CN="Lynette":MAILTO:ljph@roadrunner.com
END:VEVENT
BEGIN:VEVENT
DTSTART;TZID=America/New_York:20121201T110000
DTEND;TZID=America/New_York:20121201T140000
DTSTAMP:20260425T115610
CREATED:20121111T022732Z
LAST-MODIFIED:20121112T223143Z
UID:299-1354359600-1354370400@dspgwny.org
SUMMARY:Holiday Party
DESCRIPTION:Come celebrate the holidays with DSPG family and friends at our annual Holiday Party on Saturday\, December 1\, from 11am-2pm. As usual\, the party will be hosted by the students at the Buffalo Academy of the Sacred Heart\, 3860 Main Street. \nThere will be games in the gym for the younger kids and entertainer Glenn Colton will return with some music and fun for kids of all ages. If you are interested in your children receiving a gift from Santa\, please bring wrapped and labeled ones. The Sacred Heart students will organize Santa’s visit. \nIn keeping with the holiday spirit\, we are asking that everyone who attends the party bring an item of food. Families with last names beginning with A-M\, please bring a dessert and families with last names beginning with N-Z\, please bring a side dish. DSPG will provide pizza and beverages. \nPlease RSVP to Gretchen (dspgwny@hotmail.com or 465-0128) or Maureen (mhunleybarnes@yahoo.com or 472-1637) by November 27 to let them know what you are bringing.
URL:https://dspgwny.org/event/holiday-party/
CATEGORIES:Annual Event,Dance,For the Family
ORGANIZER;CN="Gretchen or Maureen":MAILTO:dspgwny@hotmail.com or mhunleybarnes@yahoo.com
END:VEVENT
END:VCALENDAR