BEGIN:VCALENDAR
VERSION:2.0
PRODID:-//Down Syndrome Parents Group of Western New York - DSPG of WNY - ECPv6.15.20//NONSGML v1.0//EN
CALSCALE:GREGORIAN
METHOD:PUBLISH
X-WR-CALNAME:Down Syndrome Parents Group of Western New York - DSPG of WNY
X-ORIGINAL-URL:https://dspgwny.org
X-WR-CALDESC:Events for Down Syndrome Parents Group of Western New York - DSPG of WNY
REFRESH-INTERVAL;VALUE=DURATION:PT1H
X-Robots-Tag:noindex
X-PUBLISHED-TTL:PT1H
BEGIN:VTIMEZONE
TZID:America/New_York
BEGIN:DAYLIGHT
TZOFFSETFROM:-0500
TZOFFSETTO:-0400
TZNAME:EDT
DTSTART:20150308T070000
END:DAYLIGHT
BEGIN:STANDARD
TZOFFSETFROM:-0400
TZOFFSETTO:-0500
TZNAME:EST
DTSTART:20151101T060000
END:STANDARD
BEGIN:DAYLIGHT
TZOFFSETFROM:-0500
TZOFFSETTO:-0400
TZNAME:EDT
DTSTART:20160313T070000
END:DAYLIGHT
BEGIN:STANDARD
TZOFFSETFROM:-0400
TZOFFSETTO:-0500
TZNAME:EST
DTSTART:20161106T060000
END:STANDARD
BEGIN:DAYLIGHT
TZOFFSETFROM:-0500
TZOFFSETTO:-0400
TZNAME:EDT
DTSTART:20170312T070000
END:DAYLIGHT
BEGIN:STANDARD
TZOFFSETFROM:-0400
TZOFFSETTO:-0500
TZNAME:EST
DTSTART:20171105T060000
END:STANDARD
END:VTIMEZONE
BEGIN:VEVENT
DTSTART;TZID=America/New_York:20160515T110000
DTEND;TZID=America/New_York:20160515T130000
DTSTAMP:20260421T022133
CREATED:20160421T021438Z
LAST-MODIFIED:20160421T021438Z
UID:1103-1463310000-1463317200@dspgwny.org
SUMMARY:Comforting Hugs Foundation Providing Free Showing of The Peanuts Movie
DESCRIPTION:Join us with your child aged 2-10 for a morning of play at SweetCharlotte’s from 9:30-11:30am. Email dspg@dspgwny.org orregister at https://form.jotform.com/dspgwny/kids-club
URL:https://dspgwny.org/event/comforting-hugs-foundation-providing-free-showing-of-the-peanuts-movie/
LOCATION:East Aurora Theater\, 673 Main St\, East Aurora\, 14052\, United States
CATEGORIES:For the Family
END:VEVENT
END:VCALENDAR