BEGIN:VCALENDAR
VERSION:2.0
PRODID:-//Down Syndrome Parents Group of Western New York - DSPG of WNY - ECPv6.15.20//NONSGML v1.0//EN
CALSCALE:GREGORIAN
METHOD:PUBLISH
X-WR-CALNAME:Down Syndrome Parents Group of Western New York - DSPG of WNY
X-ORIGINAL-URL:https://dspgwny.org
X-WR-CALDESC:Events for Down Syndrome Parents Group of Western New York - DSPG of WNY
REFRESH-INTERVAL;VALUE=DURATION:PT1H
X-Robots-Tag:noindex
X-PUBLISHED-TTL:PT1H
BEGIN:VTIMEZONE
TZID:America/New_York
BEGIN:DAYLIGHT
TZOFFSETFROM:-0500
TZOFFSETTO:-0400
TZNAME:EDT
DTSTART:20110313T070000
END:DAYLIGHT
BEGIN:STANDARD
TZOFFSETFROM:-0400
TZOFFSETTO:-0500
TZNAME:EST
DTSTART:20111106T060000
END:STANDARD
BEGIN:DAYLIGHT
TZOFFSETFROM:-0500
TZOFFSETTO:-0400
TZNAME:EDT
DTSTART:20120311T070000
END:DAYLIGHT
BEGIN:STANDARD
TZOFFSETFROM:-0400
TZOFFSETTO:-0500
TZNAME:EST
DTSTART:20121104T060000
END:STANDARD
BEGIN:DAYLIGHT
TZOFFSETFROM:-0500
TZOFFSETTO:-0400
TZNAME:EDT
DTSTART:20130310T070000
END:DAYLIGHT
BEGIN:STANDARD
TZOFFSETFROM:-0400
TZOFFSETTO:-0500
TZNAME:EST
DTSTART:20131103T060000
END:STANDARD
END:VTIMEZONE
BEGIN:VEVENT
DTSTART;TZID=America/New_York:20121114T190000
DTEND;TZID=America/New_York:20121114T200000
DTSTAMP:20260421T004913
CREATED:20121108T215414Z
LAST-MODIFIED:20130208T040325Z
UID:233-1352919600-1352923200@dspgwny.org
SUMMARY:Sleep Apnea/ENT Update
DESCRIPTION:Dr. Linda Brodsky\, pediatric ear\, nose and throat specialist and founder of Pediatric Ear\, Nose and Throat Associates\, will be speaking on Wednesday evening\, November 14\, at 7pm in M101 at Medaille College. Dr. Brodsky will be updating us on sleep apnea in individuals with Down syndrome and other relevant ear\, nose and throat issues. Note: This room is next to M102 where we usually meet. There will be a short question and answer period after Dr. Brodsky’s presentation. More information about Dr. Brodsky and PENTA can be found on her blog: thebrodskyblog.com.
URL:https://dspgwny.org/event/sleep-apneaent-update/
CATEGORIES:Guest Speaker,Seminar/Educational
END:VEVENT
END:VCALENDAR