BEGIN:VCALENDAR
VERSION:2.0
PRODID:-//Down Syndrome Parents Group of Western New York - DSPG of WNY - ECPv6.15.20//NONSGML v1.0//EN
CALSCALE:GREGORIAN
METHOD:PUBLISH
X-ORIGINAL-URL:https://dspgwny.org
X-WR-CALDESC:Events for Down Syndrome Parents Group of Western New York - DSPG of WNY
REFRESH-INTERVAL;VALUE=DURATION:PT1H
X-Robots-Tag:noindex
X-PUBLISHED-TTL:PT1H
BEGIN:VTIMEZONE
TZID:America/New_York
BEGIN:DAYLIGHT
TZOFFSETFROM:-0500
TZOFFSETTO:-0400
TZNAME:EDT
DTSTART:20250309T070000
END:DAYLIGHT
BEGIN:STANDARD
TZOFFSETFROM:-0400
TZOFFSETTO:-0500
TZNAME:EST
DTSTART:20251102T060000
END:STANDARD
BEGIN:DAYLIGHT
TZOFFSETFROM:-0500
TZOFFSETTO:-0400
TZNAME:EDT
DTSTART:20260308T070000
END:DAYLIGHT
BEGIN:STANDARD
TZOFFSETFROM:-0400
TZOFFSETTO:-0500
TZNAME:EST
DTSTART:20261101T060000
END:STANDARD
BEGIN:DAYLIGHT
TZOFFSETFROM:-0500
TZOFFSETTO:-0400
TZNAME:EDT
DTSTART:20270314T070000
END:DAYLIGHT
BEGIN:STANDARD
TZOFFSETFROM:-0400
TZOFFSETTO:-0500
TZNAME:EST
DTSTART:20271107T060000
END:STANDARD
END:VTIMEZONE
BEGIN:VEVENT
DTSTART;TZID=America/New_York:20260320T153000
DTEND;TZID=America/New_York:20260320T183000
DTSTAMP:20260422T114313
CREATED:20260116T051518Z
LAST-MODIFIED:20260116T052239Z
UID:422551-1774020600-1774031400@dspgwny.org
SUMMARY:Understanding Down Syndrome\, IDD & Dementia
DESCRIPTION:Sponsor letters will be going out soon. If you think your employer or any one you know may be interested in sponsoring thisyear’s walk\, please let us know and we can get a request letter to them. Contact Gretchen at gretchen.w@dspgwny.org. Thank you!
URL:https://dspgwny.org/event/alzheimers-awareness-presentation-copy/
END:VEVENT
END:VCALENDAR