BEGIN:VCALENDAR
VERSION:2.0
PRODID:-//Down Syndrome Parents Group of Western New York - DSPG of WNY - ECPv6.15.20//NONSGML v1.0//EN
CALSCALE:GREGORIAN
METHOD:PUBLISH
X-WR-CALNAME:Down Syndrome Parents Group of Western New York - DSPG of WNY
X-ORIGINAL-URL:https://dspgwny.org
X-WR-CALDESC:Events for Down Syndrome Parents Group of Western New York - DSPG of WNY
REFRESH-INTERVAL;VALUE=DURATION:PT1H
X-Robots-Tag:noindex
X-PUBLISHED-TTL:PT1H
BEGIN:VTIMEZONE
TZID:America/New_York
BEGIN:DAYLIGHT
TZOFFSETFROM:-0500
TZOFFSETTO:-0400
TZNAME:EDT
DTSTART:20240310T070000
END:DAYLIGHT
BEGIN:STANDARD
TZOFFSETFROM:-0400
TZOFFSETTO:-0500
TZNAME:EST
DTSTART:20241103T060000
END:STANDARD
BEGIN:DAYLIGHT
TZOFFSETFROM:-0500
TZOFFSETTO:-0400
TZNAME:EDT
DTSTART:20250309T070000
END:DAYLIGHT
BEGIN:STANDARD
TZOFFSETFROM:-0400
TZOFFSETTO:-0500
TZNAME:EST
DTSTART:20251102T060000
END:STANDARD
BEGIN:DAYLIGHT
TZOFFSETFROM:-0500
TZOFFSETTO:-0400
TZNAME:EDT
DTSTART:20260308T070000
END:DAYLIGHT
BEGIN:STANDARD
TZOFFSETFROM:-0400
TZOFFSETTO:-0500
TZNAME:EST
DTSTART:20261101T060000
END:STANDARD
END:VTIMEZONE
BEGIN:VEVENT
DTSTART;TZID=America/New_York:20250208T180000
DTEND;TZID=America/New_York:20250208T210000
DTSTAMP:20260422T190311
CREATED:20241219T162322Z
LAST-MODIFIED:20241219T164612Z
UID:421753-1739037600-1739048400@dspgwny.org
SUMMARY:February 8 - Valentine's Day Dance
DESCRIPTION: Awareness\, Diagnosis & CareThis event is online and onsite. Please check out the flyer to Register.  
URL:https://dspgwny.org/event/february-8-valentines-day-dance/
LOCATION:Magruders Restaurant\, 4995 Broadway\, Depew\, NY\, 14043\, United States
END:VEVENT
BEGIN:VEVENT
DTSTART;TZID=America/New_York:20250215T140000
DTEND;TZID=America/New_York:20250215T170000
DTSTAMP:20260422T190311
CREATED:20241219T164902Z
LAST-MODIFIED:20241219T170128Z
UID:421759-1739628000-1739638800@dspgwny.org
SUMMARY:February 15 - UB Men's Basketball Game
DESCRIPTION: Awareness\, Diagnosis & CareThis event is online and onsite. Please check out the flyer to Register.  
URL:https://dspgwny.org/event/february-15-ub-basketball-game/
LOCATION:UB Alumni Arena\, 175 Webster Road \, Amherst\, NY\, 14226\, United States
END:VEVENT
END:VCALENDAR