BEGIN:VCALENDAR
VERSION:2.0
PRODID:-//Down Syndrome Parents Group of Western New York - DSPG of WNY - ECPv6.15.20//NONSGML v1.0//EN
CALSCALE:GREGORIAN
METHOD:PUBLISH
X-WR-CALNAME:Down Syndrome Parents Group of Western New York - DSPG of WNY
X-ORIGINAL-URL:https://dspgwny.org
X-WR-CALDESC:Events for Down Syndrome Parents Group of Western New York - DSPG of WNY
REFRESH-INTERVAL;VALUE=DURATION:PT1H
X-Robots-Tag:noindex
X-PUBLISHED-TTL:PT1H
BEGIN:VTIMEZONE
TZID:America/New_York
BEGIN:DAYLIGHT
TZOFFSETFROM:-0500
TZOFFSETTO:-0400
TZNAME:EDT
DTSTART:20240310T070000
END:DAYLIGHT
BEGIN:STANDARD
TZOFFSETFROM:-0400
TZOFFSETTO:-0500
TZNAME:EST
DTSTART:20241103T060000
END:STANDARD
BEGIN:DAYLIGHT
TZOFFSETFROM:-0500
TZOFFSETTO:-0400
TZNAME:EDT
DTSTART:20250309T070000
END:DAYLIGHT
BEGIN:STANDARD
TZOFFSETFROM:-0400
TZOFFSETTO:-0500
TZNAME:EST
DTSTART:20251102T060000
END:STANDARD
BEGIN:DAYLIGHT
TZOFFSETFROM:-0500
TZOFFSETTO:-0400
TZNAME:EDT
DTSTART:20260308T070000
END:DAYLIGHT
BEGIN:STANDARD
TZOFFSETFROM:-0400
TZOFFSETTO:-0500
TZNAME:EST
DTSTART:20261101T060000
END:STANDARD
END:VTIMEZONE
BEGIN:VEVENT
DTSTART;VALUE=DATE:20250716
DTEND;VALUE=DATE:20250717
DTSTAMP:20260422T111637
CREATED:20250608T134423Z
LAST-MODIFIED:20250608T150837Z
UID:421819-1752624000-1752710399@dspgwny.org
SUMMARY:Give 716 Day
DESCRIPTION: Awareness\, Diagnosis & CareThis event is online and onsite. Please check out the flyer to Register.  
URL:https://dspgwny.org/event/give-716-day/
END:VEVENT
BEGIN:VEVENT
DTSTART;TZID=America/New_York:20250720T130000
DTEND;TZID=America/New_York:20250720T170000
DTSTAMP:20260422T111637
CREATED:20250608T134600Z
LAST-MODIFIED:20250608T151237Z
UID:421822-1753016400-1753030800@dspgwny.org
SUMMARY:Day at the Bison's Game
DESCRIPTION: Awareness\, Diagnosis & CareThis event is online and onsite. Please check out the flyer to Register.  
URL:https://dspgwny.org/event/day-at-the-bisons-game-2/
END:VEVENT
END:VCALENDAR